BEGIN:VCALENDAR
VERSION:2.0
PRODID:-//YMCA of Rock River Valley - ECPv6.15.20//NONSGML v1.0//EN
CALSCALE:GREGORIAN
METHOD:PUBLISH
X-WR-CALNAME:YMCA of Rock River Valley
X-ORIGINAL-URL:https://rockriverymca.org
X-WR-CALDESC:Events for YMCA of Rock River Valley
REFRESH-INTERVAL;VALUE=DURATION:PT1H
X-Robots-Tag:noindex
X-PUBLISHED-TTL:PT1H
BEGIN:VTIMEZONE
TZID:America/Denver
BEGIN:DAYLIGHT
TZOFFSETFROM:-0700
TZOFFSETTO:-0600
TZNAME:MDT
DTSTART:20250309T090000
END:DAYLIGHT
BEGIN:STANDARD
TZOFFSETFROM:-0600
TZOFFSETTO:-0700
TZNAME:MST
DTSTART:20251102T080000
END:STANDARD
BEGIN:DAYLIGHT
TZOFFSETFROM:-0700
TZOFFSETTO:-0600
TZNAME:MDT
DTSTART:20260308T090000
END:DAYLIGHT
BEGIN:STANDARD
TZOFFSETFROM:-0600
TZOFFSETTO:-0700
TZNAME:MST
DTSTART:20261101T080000
END:STANDARD
BEGIN:DAYLIGHT
TZOFFSETFROM:-0700
TZOFFSETTO:-0600
TZNAME:MDT
DTSTART:20270314T090000
END:DAYLIGHT
BEGIN:STANDARD
TZOFFSETFROM:-0600
TZOFFSETTO:-0700
TZNAME:MST
DTSTART:20271107T080000
END:STANDARD
END:VTIMEZONE
BEGIN:VEVENT
DTSTART;TZID=America/Denver:20260424T180000
DTEND;TZID=America/Denver:20260424T200000
DTSTAMP:20260424T001222
CREATED:20260310T173016Z
LAST-MODIFIED:20260410T192546Z
UID:13516-1777053600-1777060800@rockriverymca.org
SUMMARY:Healthy Kids Day 2026
DESCRIPTION:Join us for an exciting day of baseball in partnership with Rockford University! This fun and engaging event gives young athletes ages 6-12 the opportunity to learn the fundamentals of baseball while working alongside university players and coaches. \n\n\n\n\n\nParticipants will rotate through skill stations focused on hitting\, throwing\, fielding\, and base running\, all while building teamwork\, confidence\, and sportsmanship. Whether your child is brand new to the game or already loves baseball\, this clinic provides a supportive environment to learn new skills\, make friends\, and experience the game at the next level.\n\nThis event is free. Register Here\n\n\n\n\n 
URL:https://rockriverymca.org/events-calendar/healthy-kids-day-2026/
LOCATION:Northeast Family YMCA\, 8451 Orth Road\, Loves Park\, IL\, 61111\, United States
ATTACH;FMTTYPE=image/webp:https://rockriverymca.org/wp-content/uploads/2024/11/Program-family-jpg.webp
END:VEVENT
END:VCALENDAR